BEGIN:VCALENDAR
VERSION:2.0
PRODID:-//PRC Magazine (Pacific Rim Construction) - ECPv5.0.3.1//NONSGML v1.0//EN
CALSCALE:GREGORIAN
METHOD:PUBLISH
X-WR-CALNAME:PRC Magazine (Pacific Rim Construction)
X-ORIGINAL-URL:http://www.prc-magazine.com
X-WR-CALDESC:Events for PRC Magazine (Pacific Rim Construction)
BEGIN:VTIMEZONE
TZID:Asia/Shanghai
BEGIN:STANDARD
TZOFFSETFROM:+0800
TZOFFSETTO:+0800
TZNAME:CST
DTSTART:20250101T000000
END:STANDARD
END:VTIMEZONE
BEGIN:VEVENT
DTSTART;VALUE=DATE:20250721
DTEND;VALUE=DATE:20250725
DTSTAMP:20260419T123653
CREATED:20250408T083330Z
LAST-MODIFIED:20250408T083330Z
UID:32274-1753056000-1753401599@www.prc-magazine.com
SUMMARY:Archidex 2025
DESCRIPTION:The International Architecture\, Interior Design & Building Exhibition (ARCHIDEX)\, the largest architecture exhibition in Malaysia\, is set to be the most ambitious yet in 2025.\nIt will take place in Kuala Lumpur\, Malaysia\, across two venues: MITEC (Malaysia International Trade & Exhibition Centre) from July 21 to July 24\, 2025\, and KLCC (Kuala Lumpur Convention Centre) from July 23 to July 26\, 2025.\nThis event targeted to feature 850 exhibitors across 34\,000 gross square metres of exhibition space across 2 venues. ARCHIDEX 2025 will welcome an estimated 56\,000 visitors from the architecture\, interior design and building industry\, professionals\, and enthusiasts from more than 110 countries and regions. \n   \n
URL:http://www.prc-magazine.com/event/archidex-2025/
LOCATION:Malaysia International Trade and Exhibition Centre (MITEC)\, MITEC\, 8\, Jalan Dutamas 2\, Kompleks Kerajaan\, 50480 Kuala Lumpur\, Wilayah Persekutuan\, Kuala Lumpur\, Kuala Lumpur\, Malaysia
CATEGORIES:PRC Event Calendar
ATTACH;FMTTYPE=image/jpeg:http://www.prc-magazine.com/wp-content/uploads/2025/04/Photo2--scaled.jpg
ORGANIZER;CN="C.I.S%20NETWORK%20SDN%20BHD":MAILTO:info@engineermalaysia.com.my
END:VEVENT
END:VCALENDAR